BEGIN:VCALENDAR
VERSION:2.0
PRODID:-//Winning Grace Intl Church - ECPv6.15.20//NONSGML v1.0//EN
CALSCALE:GREGORIAN
METHOD:PUBLISH
X-WR-CALNAME:Winning Grace Intl Church
X-ORIGINAL-URL:https://wgic.org
X-WR-CALDESC:Events for Winning Grace Intl Church
REFRESH-INTERVAL;VALUE=DURATION:PT1H
X-Robots-Tag:noindex
X-PUBLISHED-TTL:PT1H
BEGIN:VTIMEZONE
TZID:America/New_York
BEGIN:DAYLIGHT
TZOFFSETFROM:-0500
TZOFFSETTO:-0400
TZNAME:EDT
DTSTART:20240310T070000
END:DAYLIGHT
BEGIN:STANDARD
TZOFFSETFROM:-0400
TZOFFSETTO:-0500
TZNAME:EST
DTSTART:20241103T060000
END:STANDARD
BEGIN:DAYLIGHT
TZOFFSETFROM:-0500
TZOFFSETTO:-0400
TZNAME:EDT
DTSTART:20250309T070000
END:DAYLIGHT
BEGIN:STANDARD
TZOFFSETFROM:-0400
TZOFFSETTO:-0500
TZNAME:EST
DTSTART:20251102T060000
END:STANDARD
BEGIN:DAYLIGHT
TZOFFSETFROM:-0500
TZOFFSETTO:-0400
TZNAME:EDT
DTSTART:20260308T070000
END:DAYLIGHT
BEGIN:STANDARD
TZOFFSETFROM:-0400
TZOFFSETTO:-0500
TZNAME:EST
DTSTART:20261101T060000
END:STANDARD
END:VTIMEZONE
BEGIN:VEVENT
DTSTART;TZID=America/New_York:20250802T200000
DTEND;TZID=America/New_York:20250802T210000
DTSTAMP:20260424T123157
CREATED:20250728T221856Z
LAST-MODIFIED:20250728T221856Z
UID:1179-1754164800-1754168400@wgic.org
SUMMARY:Sunday School Prayer Meeting
DESCRIPTION:
URL:https://wgic.org/event/sunday-school-prayer-meeting/
END:VEVENT
BEGIN:VEVENT
DTSTART;TZID=America/New_York:20250802T100000
DTEND;TZID=America/New_York:20250802T170000
DTSTAMP:20260424T123157
CREATED:20250728T203002Z
LAST-MODIFIED:20250728T203002Z
UID:1167-1754128800-1754154000@wgic.org
SUMMARY:Community Health Fair & Field Day
DESCRIPTION:
URL:https://wgic.org/event/community-health-fair-field-day/
LOCATION:Winning Grace International Church\, 201 Bowleys Quarters Rd\, Middle River\, MD 21220\, Baltimore\, MD\, United States
END:VEVENT
BEGIN:VEVENT
DTSTART;TZID=America/New_York:20250801T090000
DTEND;TZID=America/New_York:20250801T160000
DTSTAMP:20260424T123157
CREATED:20250728T221307Z
LAST-MODIFIED:20250728T221307Z
UID:1175-1754038800-1754064000@wgic.org
SUMMARY:Vacation Bible School
DESCRIPTION:
URL:https://wgic.org/event/vacation-bible-school-4/
LOCATION:Winning Grace International Church\, 201 Bowleys Quarters Rd\, Middle River\, MD 21220\, Baltimore\, MD\, United States
END:VEVENT
BEGIN:VEVENT
DTSTART;TZID=America/New_York:20250731T090000
DTEND;TZID=America/New_York:20250731T160000
DTSTAMP:20260424T123157
CREATED:20250728T220639Z
LAST-MODIFIED:20250728T220639Z
UID:1173-1753952400-1753977600@wgic.org
SUMMARY:Vacation Bible School
DESCRIPTION:
URL:https://wgic.org/event/vacation-bible-school-3/
LOCATION:Winning Grace International Church\, 201 Bowleys Quarters Rd\, Middle River\, MD 21220\, Baltimore\, MD\, United States
END:VEVENT
BEGIN:VEVENT
DTSTART;TZID=America/New_York:20250730T203000
DTEND;TZID=America/New_York:20250730T220000
DTSTAMP:20260424T123157
CREATED:20250513T223704Z
LAST-MODIFIED:20250728T202023Z
UID:987-1753907400-1753912800@wgic.org
SUMMARY:School of Success (Singles Class)
DESCRIPTION:https://zoom.us/j/336722053
URL:https://wgic.org/event/school-of-success-singles-class/
END:VEVENT
BEGIN:VEVENT
DTSTART;TZID=America/New_York:20250730T190000
DTEND;TZID=America/New_York:20250730T203000
DTSTAMP:20260424T123157
CREATED:20250513T223521Z
LAST-MODIFIED:20250728T202116Z
UID:985-1753902000-1753907400@wgic.org
SUMMARY:School of Success (Couple Class)
DESCRIPTION:
URL:https://wgic.org/event/school-of-success-couple-class/
END:VEVENT
BEGIN:VEVENT
DTSTART;TZID=America/New_York:20250730T180000
DTEND;TZID=America/New_York:20250730T190000
DTSTAMP:20260424T123157
CREATED:20250529T105741Z
LAST-MODIFIED:20250728T221129Z
UID:1015-1753898400-1753902000@wgic.org
SUMMARY:Youth Bible Studies
DESCRIPTION:
URL:https://wgic.org/event/youth-bible-studies/
END:VEVENT
BEGIN:VEVENT
DTSTART;TZID=America/New_York:20250730T090000
DTEND;TZID=America/New_York:20250730T160000
DTSTAMP:20260424T123157
CREATED:20250728T220508Z
LAST-MODIFIED:20250728T220508Z
UID:1171-1753866000-1753891200@wgic.org
SUMMARY:Vacation Bible School
DESCRIPTION:
URL:https://wgic.org/event/vacation-bible-school-2/
LOCATION:Winning Grace International Church\, 201 Bowleys Quarters Rd\, Middle River\, MD 21220\, Baltimore\, MD\, United States
END:VEVENT
BEGIN:VEVENT
DTSTART;TZID=America/New_York:20250729T090000
DTEND;TZID=America/New_York:20250729T160000
DTSTAMP:20260424T123157
CREATED:20250728T220414Z
LAST-MODIFIED:20250728T220414Z
UID:1169-1753779600-1753804800@wgic.org
SUMMARY:Vacation Bible School
DESCRIPTION:
URL:https://wgic.org/event/vacation-bible-school/
LOCATION:Winning Grace International Church\, 201 Bowleys Quarters Rd\, Middle River\, MD 21220\, Baltimore\, MD\, United States
END:VEVENT
BEGIN:VEVENT
DTSTART;TZID=America/New_York:20250728T060000
DTEND;TZID=America/New_York:20250728T070000
DTSTAMP:20260424T123157
CREATED:20250530T153020Z
LAST-MODIFIED:20250728T202343Z
UID:1023-1753682400-1753686000@wgic.org
SUMMARY:Morning Devotion
DESCRIPTION:
URL:https://wgic.org/event/morning-devotion/
END:VEVENT
BEGIN:VEVENT
DTSTART;TZID=America/New_York:20250705T200000
DTEND;TZID=America/New_York:20250705T220000
DTSTAMP:20260424T123157
CREATED:20250701T171845Z
LAST-MODIFIED:20250701T171845Z
UID:1165-1751745600-1751752800@wgic.org
SUMMARY:Miracles & Breakthrough Service
DESCRIPTION:
URL:https://wgic.org/event/miracles-breakthrough-service/
LOCATION:Winning Grace International Church\, 201 Bowleys Quarters Rd\, Middle River\, MD 21220\, Baltimore\, MD\, United States
END:VEVENT
BEGIN:VEVENT
DTSTART;TZID=America/New_York:20250705T160000
DTEND;TZID=America/New_York:20250705T180000
DTSTAMP:20260424T123157
CREATED:20250416T091639Z
LAST-MODIFIED:20250701T171648Z
UID:809-1751731200-1751738400@wgic.org
SUMMARY:Evangelism
DESCRIPTION:
URL:https://wgic.org/event/25th-anniversary-celebration/
LOCATION:Winning Grace International Church\, 201 Bowleys Quarters Rd\, Middle River\, MD 21220\, Baltimore\, MD\, United States
END:VEVENT
BEGIN:VEVENT
DTSTART;TZID=America/New_York:20250701T210000
DTEND;TZID=America/New_York:20250701T220000
DTSTAMP:20260424T123157
CREATED:20250513T222725Z
LAST-MODIFIED:20250701T171306Z
UID:982-1751403600-1751407200@wgic.org
SUMMARY:Young Adults Bible Studies (18-25 years)
DESCRIPTION:
URL:https://wgic.org/event/young-adults-bible-studies-18-25-years/
END:VEVENT
BEGIN:VEVENT
DTSTART;TZID=America/New_York:20250701T180000
DTEND;TZID=America/New_York:20250701T190000
DTSTAMP:20260424T123157
CREATED:20250528T135938Z
LAST-MODIFIED:20250701T171434Z
UID:1010-1751392800-1751396400@wgic.org
SUMMARY:Monthly Fast/Prayer
DESCRIPTION:
URL:https://wgic.org/event/monthly-fast-prayer/
END:VEVENT
BEGIN:VEVENT
DTSTART;VALUE=DATE:20250628
DTEND;VALUE=DATE:20250629
DTSTAMP:20260424T123157
CREATED:20250513T224115Z
LAST-MODIFIED:20250513T224115Z
UID:995-1751068800-1751155199@wgic.org
SUMMARY:New Member Orientation
DESCRIPTION:
URL:https://wgic.org/event/new-member-orientation/
END:VEVENT
BEGIN:VEVENT
DTSTART;VALUE=DATE:20250622
DTEND;VALUE=DATE:20250623
DTSTAMP:20260424T123157
CREATED:20250513T224033Z
LAST-MODIFIED:20250528T140540Z
UID:993-1750550400-1750636799@wgic.org
SUMMARY:Health Education Event
DESCRIPTION:
URL:https://wgic.org/event/health-education-event/
END:VEVENT
BEGIN:VEVENT
DTSTART;TZID=America/New_York:20250620T060000
DTEND;TZID=America/New_York:20250620T070000
DTSTAMP:20260424T123157
CREATED:20250609T013220Z
LAST-MODIFIED:20250616T012827Z
UID:1161-1750399200-1750402800@wgic.org
SUMMARY:Morning Devotion
DESCRIPTION:
URL:https://wgic.org/event/morning-devotion-3-2-2-2-2-2/
END:VEVENT
BEGIN:VEVENT
DTSTART;TZID=America/New_York:20250619T060000
DTEND;TZID=America/New_York:20250619T070000
DTSTAMP:20260424T123157
CREATED:20250609T013106Z
LAST-MODIFIED:20250616T012854Z
UID:1159-1750312800-1750316400@wgic.org
SUMMARY:Morning Devotion
DESCRIPTION:
URL:https://wgic.org/event/morning-devotion-3-2-2-2-2/
END:VEVENT
BEGIN:VEVENT
DTSTART;TZID=America/New_York:20250618T060000
DTEND;TZID=America/New_York:20250618T070000
DTSTAMP:20260424T123157
CREATED:20250609T012958Z
LAST-MODIFIED:20250616T013149Z
UID:1157-1750226400-1750230000@wgic.org
SUMMARY:Morning Devotion
DESCRIPTION:
URL:https://wgic.org/event/morning-devotion-3-2-2-2/
END:VEVENT
BEGIN:VEVENT
DTSTART;TZID=America/New_York:20250618T000000
DTEND;TZID=America/New_York:20250622T000000
DTSTAMP:20260424T123157
CREATED:20250528T140108Z
LAST-MODIFIED:20250528T140108Z
UID:1012-1750204800-1750550400@wgic.org
SUMMARY:Young & Young Adults Summer Camp
DESCRIPTION:
URL:https://wgic.org/event/young-young-adults-summer-camp/
END:VEVENT
BEGIN:VEVENT
DTSTART;TZID=America/New_York:20250617T183000
DTEND;TZID=America/New_York:20250617T203000
DTSTAMP:20260424T123157
CREATED:20250513T225311Z
LAST-MODIFIED:20250616T013239Z
UID:999-1750185000-1750192200@wgic.org
SUMMARY:School of Ministry 2025
DESCRIPTION:
URL:https://wgic.org/event/school-of-ministry-2025/
LOCATION:Calvary Chapel International Worship Center\, 8064 New Cut Rd\,\, Severn\, MD\, MD 21144\, United States
END:VEVENT
BEGIN:VEVENT
DTSTART;TZID=America/New_York:20250617T060000
DTEND;TZID=America/New_York:20250617T070000
DTSTAMP:20260424T123157
CREATED:20250530T172651Z
LAST-MODIFIED:20250616T013458Z
UID:1030-1750140000-1750143600@wgic.org
SUMMARY:Morning Devotion
DESCRIPTION:
URL:https://wgic.org/event/morning-devotion-3-2/
END:VEVENT
BEGIN:VEVENT
DTSTART;TZID=America/New_York:20250616T060000
DTEND;TZID=America/New_York:20250616T070000
DTSTAMP:20260424T123157
CREATED:20250530T172723Z
LAST-MODIFIED:20250616T013539Z
UID:1032-1750053600-1750057200@wgic.org
SUMMARY:Morning Devotion
DESCRIPTION:
URL:https://wgic.org/event/morning-devotion-3-2-2/
END:VEVENT
BEGIN:VEVENT
DTSTART;VALUE=DATE:20250614
DTEND;VALUE=DATE:20250615
DTSTAMP:20260424T123157
CREATED:20250513T223925Z
LAST-MODIFIED:20250513T223925Z
UID:991-1749859200-1749945599@wgic.org
SUMMARY:Men's Conference
DESCRIPTION:
URL:https://wgic.org/event/mens-conference/
END:VEVENT
BEGIN:VEVENT
DTSTART;TZID=America/New_York:20250604T060000
DTEND;TZID=America/New_York:20250604T070000
DTSTAMP:20260424T123157
CREATED:20250530T172438Z
LAST-MODIFIED:20250530T172602Z
UID:1028-1749016800-1749020400@wgic.org
SUMMARY:Morning Devotion
DESCRIPTION:
URL:https://wgic.org/event/morning-devotion-3/
END:VEVENT
BEGIN:VEVENT
DTSTART;TZID=America/New_York:20250603T060000
DTEND;TZID=America/New_York:20250603T070000
DTSTAMP:20260424T123157
CREATED:20250530T172342Z
LAST-MODIFIED:20250530T172342Z
UID:1026-1748930400-1748934000@wgic.org
SUMMARY:Morning Devotion
DESCRIPTION:
URL:https://wgic.org/event/morning-devotion-2/
END:VEVENT
BEGIN:VEVENT
DTSTART;TZID=America/New_York:20250530T190000
DTEND;TZID=America/New_York:20250530T210000
DTSTAMP:20260424T123157
CREATED:20250416T091829Z
LAST-MODIFIED:20250528T135353Z
UID:811-1748631600-1748638800@wgic.org
SUMMARY:Worship Night
DESCRIPTION:
URL:https://wgic.org/event/25th-anniversary-thanksgiving-service/
LOCATION:Winning Grace International Church\, 201 Bowleys Quarters Rd\, Middle River\, MD 21220\, Baltimore\, MD\, United States
END:VEVENT
BEGIN:VEVENT
DTSTART;TZID=America/New_York:20250526T060000
DTEND;TZID=America/New_York:20250530T070000
DTSTAMP:20260424T123157
CREATED:20250528T135805Z
LAST-MODIFIED:20250528T135805Z
UID:1008-1748239200-1748588400@wgic.org
SUMMARY:Weekly Morning Devotion | Zoom
DESCRIPTION:
URL:https://wgic.org/event/weekly-morning-devotion-zoom/
END:VEVENT
BEGIN:VEVENT
DTSTART;TZID=America/New_York:20250516T190000
DTEND;TZID=America/New_York:20250516T210000
DTSTAMP:20260424T123157
CREATED:20250513T223803Z
LAST-MODIFIED:20250513T223803Z
UID:989-1747422000-1747429200@wgic.org
SUMMARY:Encounter with God
DESCRIPTION:
URL:https://wgic.org/event/encounter-with-god/
LOCATION:Winning Grace International Church\, 201 Bowleys Quarters Rd\, Middle River\, MD 21220\, Baltimore\, MD\, United States
END:VEVENT
BEGIN:VEVENT
DTSTART;TZID=America/New_York:20250430T000000
DTEND;TZID=America/New_York:20250503T000000
DTSTAMP:20260424T123157
CREATED:20250416T091456Z
LAST-MODIFIED:20250416T091506Z
UID:807-1745971200-1746230400@wgic.org
SUMMARY:LEADERSHIP CONFERENCE
DESCRIPTION:
URL:https://wgic.org/event/leadership-conference/
LOCATION:Winning Grace International Church\, 201 Bowleys Quarters Rd\, Middle River\, MD 21220\, Baltimore\, MD\, United States
END:VEVENT
END:VCALENDAR